BEGIN:VCALENDAR
VERSION:2.0
PRODID:-//Société française des études japonaises - ECPv6.15.20//NONSGML v1.0//EN
CALSCALE:GREGORIAN
METHOD:PUBLISH
X-WR-CALNAME:Société française des études japonaises
X-ORIGINAL-URL:http://sfej.asso.fr
X-WR-CALDESC:Évènements pour Société française des études japonaises
REFRESH-INTERVAL;VALUE=DURATION:PT1H
X-Robots-Tag:noindex
X-PUBLISHED-TTL:PT1H
BEGIN:VTIMEZONE
TZID:Europe/Paris
BEGIN:DAYLIGHT
TZOFFSETFROM:+0100
TZOFFSETTO:+0200
TZNAME:CEST
DTSTART:20250330T010000
END:DAYLIGHT
BEGIN:STANDARD
TZOFFSETFROM:+0200
TZOFFSETTO:+0100
TZNAME:CET
DTSTART:20251026T010000
END:STANDARD
BEGIN:DAYLIGHT
TZOFFSETFROM:+0100
TZOFFSETTO:+0200
TZNAME:CEST
DTSTART:20260329T010000
END:DAYLIGHT
BEGIN:STANDARD
TZOFFSETFROM:+0200
TZOFFSETTO:+0100
TZNAME:CET
DTSTART:20261025T010000
END:STANDARD
BEGIN:DAYLIGHT
TZOFFSETFROM:+0100
TZOFFSETTO:+0200
TZNAME:CEST
DTSTART:20270328T010000
END:DAYLIGHT
BEGIN:STANDARD
TZOFFSETFROM:+0200
TZOFFSETTO:+0100
TZNAME:CET
DTSTART:20271031T010000
END:STANDARD
END:VTIMEZONE
BEGIN:VTIMEZONE
TZID:Asia/Tokyo
BEGIN:STANDARD
TZOFFSETFROM:+0900
TZOFFSETTO:+0900
TZNAME:JST
DTSTART:20250101T000000
END:STANDARD
END:VTIMEZONE
BEGIN:VEVENT
DTSTART;TZID=Europe/Paris:20260421T090000
DTEND;TZID=Europe/Paris:20260421T110000
DTSTAMP:20260421T111054
CREATED:20260209T075540Z
LAST-MODIFIED:20260209T075540Z
UID:8378-1776762000-1776769200@sfej.asso.fr
SUMMARY:[Séminaire] "La kyō-machiya comme modèle de patrimoine durable depuis les années 1990"
DESCRIPTION:Séminaire sur « Les enseignements de l’espace au Japon » (ENSA PLV PVS)\, organisé en visio-conférence et en public\, accessibles aux auditeurs. Conférence d’une heure + discussion. \n\n\n\nRena Yamaguchi (EPHE) : « La kyō-machiya comme modèle de patrimoine durable depuis les années 1990 ».  \n\n\n\nLien Zoom : https://us02web.zoom.us/j/83231187201?pwd=3szalJmzBQBEl6KKe3jPo3f2dUwxfU.1
URL:http://sfej.asso.fr/?tribe_events=seminaire-la-kyo-machiya-comme-modele-de-patrimoine-durable-depuis-les-annees-1990
CATEGORIES:Séminaire
END:VEVENT
BEGIN:VEVENT
DTSTART;TZID=Asia/Tokyo:20260421T180000
DTEND;TZID=Asia/Tokyo:20260421T200000
DTSTAMP:20260421T111054
CREATED:20260326T155854Z
LAST-MODIFIED:20260326T155925Z
UID:8582-1776794400-1776801600@sfej.asso.fr
SUMMARY:[Conférence] "Bergson\, l'intelligence et la vie : perspectives contemporaines et nternationales" (heure japonaise)
DESCRIPTION:Institut français de recherche sur le Japon\, Maison franco-japonaise de Tokyo.  \n\n\n\nSalle 601\, en français avec traduction consécutive.  \n\n\n\nConférencier : Frédéric WORMS (École normale supérieure – PSL) \n\n\n\nQue penserait Bergson à propos de l’intelligence artificielle et pourquoi sa pensée est-elle essentielle aujourd’hui\, sur ce sujet comme sur tous les autres qui concernent la vie humaine\, ce qui explique aussi son renouveau international et en particulier au Japon ? \n\n\n\nInformations et inscription sur ce lien.
URL:http://sfej.asso.fr/?tribe_events=conference-bergson-lintelligence-et-la-vie-perspectives-contemporaines-et-nternationales-japon
CATEGORIES:Conférence
END:VEVENT
BEGIN:VEVENT
DTSTART;TZID=Asia/Tokyo:20260423T180000
DTEND;TZID=Asia/Tokyo:20260423T200000
DTSTAMP:20260421T111054
CREATED:20260326T160204Z
LAST-MODIFIED:20260326T160205Z
UID:8585-1776967200-1776974400@sfej.asso.fr
SUMMARY:[Conférence] "La philosophie doit-elle devenir une branche de la science-fiction ?" (heure japonaise)
DESCRIPTION:Institut français de recherche sur le Japon\, Maison franco-japonaise de Tokyo. \n\n\n\nSalle 601\, en français avec traduction consécutive. \n\n\n\nConférencier : Dominique LESTEL (École normale supérieure – PSL) \n\n\n\nÀ partir de trois exemples tirés de ses travaux récents en éthologie philosophique\, Dominique Lestel suggère dans cette conférence que le philosophe doit transformer la philosophie en une branche de la science-fiction\, placer l’imagination au cœur de ses dispositifs conceptuels et faire de la provocation un outil méthodologique central. Cette conférence sera tout à fait accessible à des non philosophes. \n\n\n\nInformations et inscription sur ce lien.
URL:http://sfej.asso.fr/?tribe_events=conference-la-philosophie-doit-elle-devenir-une-branche-de-la-science-fiction-heure-japonaise
CATEGORIES:Conférence
END:VEVENT
BEGIN:VEVENT
DTSTART;TZID=Europe/Paris:20260426T170000
DTEND;TZID=Europe/Paris:20260426T180000
DTSTAMP:20260421T111054
CREATED:20260331T200323Z
LAST-MODIFIED:20260331T200323Z
UID:8611-1777222800-1777226400@sfej.asso.fr
SUMMARY:[Conférence] "The Shunpōan Incident: Forgery and Ukiyo-e Painting"
DESCRIPTION:Conférence de Julie Nelson Davis (University of Pennsylvania) jeudi 9 avril 2026\, de 17h à 18h\, consacrée à l’incident du Shunpōan\, un scandale survenu en 1934 et qui marqua durablement l’étude de la peinture ukiyo-e. Faussaires\, experts douteux\, emballement médiatique\, enjeux financiers\, l’affaire réunissait tous les ingrédients d’un roman policier haletant. La conférence sera donnée en anglais. \n\n\n\nJulie Nelson Davis (University of Pennsylvania) \n\n\n\nThe Shunpōan Incident: Forgery and Ukiyo-e Painting \n\n\n\nPresentation \n\n\n\nThe “greatest discovery” cried the headline in the Asahi Shinbun on April 26\, 1934: two Sharaku paintings found in the Shunpōan collection. This private collection held seventeen rare ukiyo-e paintings—all masterpieces—and would be going to auction in May. Professor Sasakawa Rinpū verified their quality and the organizers produced a deluxe\, full-color catalogue. Rumor had it that these paintings would be brought to the committee on Important Cultural Properties. During the auction preview\, more rumors began—that these were not masterpieces\, but forgeries. This talk examines the Shunpōan Incident\, presents new evidence for the case\, and considers the impact on the field ever since.  \n\n\n\nProfile \n\n\n\nJulie Nelson Davis is the Paul F. Miller\, Jr. and E. Warren Shafer Miller Professor of History of Art and Chair of the Department of the History of Art at the University of Pennsylvania. Her research engages Japanese prints\, illustrated books\, and paintings from the eighteenth through the twentieth century. Davis is author of Utamaro and the Spectacle of Beauty (2007\, 2021)\, Partners in Print: Artistic Collaboration and the Ukiyo-e Market (2014)\, and Picturing the Floating World: Ukiyo-e in Context (2021)\, along with numerous articles and essays. Davis has received fellowships from the Sainsbury Institute for the Study of Japanese Arts and Cultures\, the Clark Art Institute\, and the Guggenheim Foundation\, among others. Currently\, she is completing a book about imitation\, homage\, and fabrication in ukiyo-e and conducting research for a second project on the history of the illustrated book in Japan. \n\n\n\nContact : marianne.simon-oikawa@u-paris.fr
URL:http://sfej.asso.fr/?tribe_events=conference-the-shunpoan-incident-forgery-and-ukiyo-e-painting
CATEGORIES:Conférence
END:VEVENT
BEGIN:VEVENT
DTSTART;TZID=Asia/Tokyo:20260428T180000
DTEND;TZID=Asia/Tokyo:20260428T200000
DTSTAMP:20260421T111054
CREATED:20260326T160746Z
LAST-MODIFIED:20260326T160746Z
UID:8589-1777399200-1777406400@sfej.asso.fr
SUMMARY:[Séminaire doctoral] "Production et reproduction : la construction du corps ouvrier féminin dans le Japon des années 1920 et 1930" (heure japonaise)
DESCRIPTION:Institut français de recherche sur le Japon\, Maison franco-japonaise de Tokyo. \n\n\n\nSalle 601 & en ligne / en français sans traduction. \n\n\n\nConférencière : Ameline GARNIER (Inalco) \n\n\n\nCette communication présente les premiers résultats d’un travail de thèse et se propose de mettre en dialogue discours philosophiques et discours politiques sur le corps ouvrier féminin. Elle cherche ainsi à comprendre les mécanismes de cette double injonction à la production et à la reproduction imposée aux ouvrières japonaises au début du XXe siècle. \n\n\n\nInformations et inscription
URL:http://sfej.asso.fr/?tribe_events=seminaire-doctoral-production-et-reproduction-la-construction-du-corps-ouvrier-feminin-dans-le-japon-des-annees-1920-et-1930-heure-japonaise
CATEGORIES:Conférence
END:VEVENT
END:VCALENDAR